BEGIN:VCALENDAR
VERSION:2.0
PRODID:-//wp-events-plugin.com//7.2.3.1//EN
TZID:America/Chicago
X-WR-TIMEZONE:America/Chicago
BEGIN:VEVENT
UID:122@zah.org
DTSTART;TZID=America/Chicago:20200701T000000
DTEND;TZID=America/Chicago:20200705T000000
DTSTAMP:20200229T190433Z
URL:https://zah.org/events/zgames-2020/
SUMMARY:ZGames 2020
DESCRIPTION:Dear members\,\n\nYour Sports Committee invites you to particip
 ate in the ZGames 2020\n\nWe like to inform you of the Zoroastrian Games w
 hich are held every other year. The ZGames2020 will be held in Baltimore\,
  Maryland from 1-5th July 2020. Registration details\n\nHouston ZAH needs 
 to send a team(s) to allow our youth to participate and gain competitive e
 xperience\n\nZAH Sports Committee along with our Executive Committee has 
  nominated Games Ambassador for this event - Farzad Sarkari &amp\; Rukshan
 a Sarkari.\n\nPlease encourage &amp\; support your kids to participate. Su
 ch events need early planning and coordination\, at this time we are askin
 g those interested to indicate their willingness and availability to parti
 cipate. Please reach out with any questions :\n\nPercy Behramsha  pmbehra
 @gmail.com\nSheroy Haveliwala  hwala@hotmail.com\n\nPlease scroll down an
 d make your donation (to offset some of the Registration &amp\; Travel cos
 ts and support Sports for ZAH Youth going to the ZGames 2020)\n\nYour ZAH 
 Sports Committee
CATEGORIES:Sports
LOCATION:Zarathusthi Heritage & Cultural Center\, 8787 W. Airport\, Houston
 \, TX\, 77071\, United States
GEO:29.643491;-95.531177
X-APPLE-STRUCTURED-LOCATION;VALUE=URI;X-ADDRESS=8787 W. Airport\, Houston\,
  TX\, 77071\, United States;X-APPLE-RADIUS=100;X-TITLE=Zarathusthi Heritag
 e & Cultural Center:geo:29.643491,-95.531177
END:VEVENT
BEGIN:VTIMEZONE
TZID:America/Chicago
X-LIC-LOCATION:America/Chicago
BEGIN:DAYLIGHT
DTSTART:20200308T030000
TZOFFSETFROM:-0600
TZOFFSETTO:-0500
TZNAME:CDT
END:DAYLIGHT
END:VTIMEZONE
END:VCALENDAR