BEGIN:VCALENDAR
VERSION:2.0
PRODID:-//wp-events-plugin.com//7.2.3.1//EN
TZID:America/Chicago
X-WR-TIMEZONE:America/Chicago
BEGIN:VEVENT
UID:354@zah.org
DTSTART;TZID=America/Chicago:20260724T190000
DTEND;TZID=America/Chicago:20260726T150000
DTSTAMP:20260128T232112Z
URL:https://zah.org/events/zah-z-camp-2026/
SUMMARY:ZAH Z-Camp 2026
DESCRIPTION:Details coming soon\nPlease stay tuned.....
LOCATION:ZAH\, 8787 W. Airport\, Houston\, Tx\, 77071\, United States
GEO:29.643491;-95.531177
X-APPLE-STRUCTURED-LOCATION;VALUE=URI;X-ADDRESS=8787 W. Airport\, Houston\,
  Tx\, 77071\, United States;X-APPLE-RADIUS=100;X-TITLE=ZAH:geo:29.643491,-
 95.531177
END:VEVENT
BEGIN:VTIMEZONE
TZID:America/Chicago
X-LIC-LOCATION:America/Chicago
BEGIN:DAYLIGHT
DTSTART:20260308T030000
TZOFFSETFROM:-0600
TZOFFSETTO:-0500
TZNAME:CDT
END:DAYLIGHT
END:VTIMEZONE
END:VCALENDAR