BEGIN:VCALENDAR
VERSION:2.0
PRODID:-//wp-events-plugin.com//7.2.3.1//EN
TZID:America/Chicago
X-WR-TIMEZONE:America/Chicago
BEGIN:VEVENT
UID:305@zah.org
DTSTART;TZID=America/Chicago:20250711T190000
DTEND;TZID=America/Chicago:20250713T153000
DTSTAMP:20250530T022747Z
URL:https://zah.org/events/zah-z-camp-2025/
SUMMARY:ZAH Z-Camp 2025
DESCRIPTION:ZAH Z-Camp 2025\n\n\n\nCalling all kids ages 5-22 (for out-of-t
 owners ages 12-22 yrs.): Come see your old friends and make new ones at a 
 weekend camp that’s always a good time! Test your brainpower and learn n
 ew skills\, we’ll have Iron Chef/Chopped\, Field Day games\, Impossible 
 Engineering\, and plenty of time to hang out with your friends... and perh
 aps also some things never before seen at Z Camp...\n\nOnline Registration
  closes on June 29th\, 2025\, or earlier if capacity reached. No late regi
 strations will be allowed !!! Only limited out-of-town spots available\, p
 lease book soon!\n\n 	When: Saturday\, July 12th\, 2025\, from 10:00 am 
 – Sunday\, July 13th\, 2025\, (Friday\, July 11th 7:00 PM onwards Pre-C
 amp sleepover for out of town and over 12 attendees ONLY)\n 	Ages 12 and U
 p – Camp overnight (Bring your sleeping bag and pillows)\n 	Ages 5-12 
 – Day Camp Only (Sat 10:00am – 11:00pm and Sunday 9:00am – 3:00pm)\n
  	Cost: $40 per attendee\n\nParents/Grandparents and guests please join us
  on Saturday\, July 12th at 7:30 pm for "Camp Dinner with Kids" ($25 pp - 
 Registration required) and on Sunday July 13th at 2:00 pm for the final e
 vent\, awards and more!\n\nAs the prices are extremely subsidized\, please
  consider being a Sponsor or Donate towards the camp. If interested\, plea
 se email Kayo Sidhwa at kaysid@hotmail.com. We look forward to seeing you!
 \n\n\n[gravityform id="44" title="true"]
LOCATION:ZAH\, 8787 W. Airport\, Houston\, Tx\, 77071\, United States
GEO:29.643491;-95.531177
X-APPLE-STRUCTURED-LOCATION;VALUE=URI;X-ADDRESS=8787 W. Airport\, Houston\,
  Tx\, 77071\, United States;X-APPLE-RADIUS=100;X-TITLE=ZAH:geo:29.643491,-
 95.531177
END:VEVENT
BEGIN:VTIMEZONE
TZID:America/Chicago
X-LIC-LOCATION:America/Chicago
BEGIN:DAYLIGHT
DTSTART:20250309T030000
TZOFFSETFROM:-0600
TZOFFSETTO:-0500
TZNAME:CDT
END:DAYLIGHT
END:VTIMEZONE
END:VCALENDAR