BEGIN:VCALENDAR
VERSION:2.0
PRODID:-//wp-events-plugin.com//7.2.3.1//EN
TZID:America/Chicago
X-WR-TIMEZONE:America/Chicago
BEGIN:VEVENT
UID:298@zah.org
DTSTART;TZID=America/Chicago;VALUE=DATE:20250413
DTEND;TZID=America/Chicago;VALUE=DATE:20250414
DTSTAMP:20241104T152131Z
URL:https://zah.org/events/zah-carnival-4/
SUMMARY:ZAH Carnival
DESCRIPTION:
END:VEVENT
BEGIN:VTIMEZONE
TZID:America/Chicago
X-LIC-LOCATION:America/Chicago
BEGIN:DAYLIGHT
DTSTART:20250309T030000
TZOFFSETFROM:-0600
TZOFFSETTO:-0500
TZNAME:CDT
END:DAYLIGHT
END:VTIMEZONE
END:VCALENDAR