BEGIN:VCALENDAR
VERSION:2.0
PRODID:-//wp-events-plugin.com//7.2.3.1//EN
TZID:America/Chicago
X-WR-TIMEZONE:America/Chicago
BEGIN:VEVENT
UID:314@zah.org
DTSTART;TZID=America/Chicago:20250719T190000
DTEND;TZID=America/Chicago:20250719T233000
DTSTAMP:20250620T235001Z
URL:https://zah.org/events/youth-fund-raiser-2/
SUMMARY:Youth Fund Raiser 2025
DESCRIPTION:\n\nZAH Youth Fundraiser – "Down Memory Lane"\n\nSaturday\, J
 uly 19\, 2025 | 7:00 PM onwards\nZarathushti Heritage and Cultural Center 
 | 8787 W Airport Blvd\, Houston\, TX 77071\nTickets: $35 per person | Chil
 dren under 5 attend free \n\nNOTE: We are not charging a non-member rate\
 , so please bring your friends\, family members\, business partners\, empl
 oyees\, clients and coworkers to support this worthy cause.\n\nYour ZAH Su
 nday School Groups are excited to invite you to our annual ZAH Youth Fundr
 aiser\, taking place on Saturday\, July 19\, 2025\, at ZAH. This year’s 
 theme is "Down Memory Lane\," and we look forward to welcoming you for an 
 evening filled with entertainment\, music\, dance\, community spirit\, and
  a purpose.\n\nThe night will feature a special theatrical play with dance
 s\, lively rounds of bingo\, a silent auction\, and our young DJs who will
  make you all dance through the night. Guests will also enjoy an assortmen
 t of wines\, a variety of delicious appetizers\, dinner\, and desserts. We
  will also have games\, door prizes\, and more through the evening.\n\nThe
  purpose of this year's fundraiser is to support important facility improv
 ements. Proceeds will go toward maintenance and updates to the ZAH Youth R
 oom\, and the remaining funds will be used for the general upkeep of our C
 enter. Your participation and generosity will help ensure that our youth a
 nd community continue to have a safe\, welcoming\, and engaging space for 
 years to come.\n\nTickets are priced at $35 per person\, with children und
 er the age of five admitted for free. Raffle tickets will also be availabl
 e for purchase at $5 each\, or 5 for $20\, or 20 tickets for $50\, with a 
 chance to win a beautiful Zarathushtra Carpet that was donated by ZANT. Se
 e the attached photo.\n\nPlease register at your earliest. If you’re una
 ble to attend\, we encourage you to donate and help support our youth init
 iatives and facility improvements.\n\nThank you in advance for your contin
 ued support\, and we look forward to seeing you there.\n\n\n\n[gravityform
  id="46" title="true"]\n\n
CATEGORIES:Entertainment,Fundraiser
LOCATION:ZAH\, 8787 W. Airport\, Houston\, Tx\, 77071\, United States
GEO:29.643491;-95.531177
X-APPLE-STRUCTURED-LOCATION;VALUE=URI;X-ADDRESS=8787 W. Airport\, Houston\,
  Tx\, 77071\, United States;X-APPLE-RADIUS=100;X-TITLE=ZAH:geo:29.643491,-
 95.531177
END:VEVENT
BEGIN:VTIMEZONE
TZID:America/Chicago
X-LIC-LOCATION:America/Chicago
BEGIN:DAYLIGHT
DTSTART:20250309T030000
TZOFFSETFROM:-0600
TZOFFSETTO:-0500
TZNAME:CDT
END:DAYLIGHT
END:VTIMEZONE
END:VCALENDAR