BEGIN:VCALENDAR
VERSION:2.0
PRODID:-//wp-events-plugin.com//7.2.3.1//EN
TZID:America/Chicago
X-WR-TIMEZONE:America/Chicago
BEGIN:VEVENT
UID:101@zah.org
DTSTART;TZID=America/Chicago;VALUE=DATE:20241229
DTEND;TZID=America/Chicago;VALUE=DATE:20250102
DTSTAMP:20240223T211958Z
URL:https://zah.org/events/north-american-zoroastrian-congress-2020/
SUMMARY:18th North American Zoroastrian Congress
DESCRIPTION:The 18th North American Zoroastrian Congress will be held from 
 Dec 29th\, 2024\, to Jan 1st\, 2025\, at Hotel Sonesta in Houston\, TX.\n\
 nFor further details please click HERE\n\nFor any questions or queries ple
 ase contact Kayo Sidhwa at 832-802-3036 or Aderbad Tamboli at 281-389-8299
END:VEVENT
BEGIN:VTIMEZONE
TZID:America/Chicago
X-LIC-LOCATION:America/Chicago
BEGIN:STANDARD
DTSTART:20241103T010000
TZOFFSETFROM:-0500
TZOFFSETTO:-0600
TZNAME:CST
END:STANDARD
END:VTIMEZONE
END:VCALENDAR