BEGIN:VCALENDAR
VERSION:2.0
PRODID:-//wp-events-plugin.com//7.2.3.1//EN
TZID:America/Chicago
X-WR-TIMEZONE:America/Chicago
BEGIN:VEVENT
UID:350@zah.org
DTSTART;TZID=America/Chicago:20251231T200000
DTEND;TZID=America/Chicago:20260101T011500
DTSTAMP:20251105T212721Z
URL:https://zah.org/events/new-years-eve-gala-2025/
SUMMARY:NEW YEAR"S EVE GALA 2025
DESCRIPTION:\n\n&nbsp\;\n\n&nbsp\;\n\n&nbsp\;\n\n&nbsp\;\n\n&nbsp\;\n\n&nbs
 p\;\n\n&nbsp\;\n\n&nbsp\;\n\n&nbsp\;\n\n&nbsp\;\n\n&nbsp\;\n\n&nbsp\;\n\n&
 nbsp\;\n\n&nbsp\;\n\nZAH Adult Member Rate -$80 (12 years and up)\nZAH Chi
 ld Member Rate - $45 (5years -11years)ZAH Non Member Adult Rate- $105\nZAH
  Non Member Child Rate - $55\n\nAfter Deadline Pricing (after 23rd Decembe
 r Midnight)\n\nAdult Member Rate - $125\nChild Member Rate - $60\nAdult No
 n Member Rate - $125\nChild Non Member Rate -$60\n\nWalk-In Rate -$150\nRS
 VP Questions - Call Arzin Italia @ 713-679-4998\n\n[gravityform id="53" ti
 tle="true"]
CATEGORIES:DisplayEvent,Entertainment
LOCATION:ZHCC\, 8787 West Airport Blvd\, Houston\, TX\, 77071\, United Stat
 es
X-APPLE-STRUCTURED-LOCATION;VALUE=URI;X-ADDRESS=8787 West Airport Blvd\, Ho
 uston\, TX\, 77071\, United States;X-APPLE-RADIUS=100;X-TITLE=ZHCC:geo:0,0
END:VEVENT
BEGIN:VTIMEZONE
TZID:America/Chicago
X-LIC-LOCATION:America/Chicago
BEGIN:STANDARD
DTSTART:20251102T010000
TZOFFSETFROM:-0500
TZOFFSETTO:-0600
TZNAME:CST
END:STANDARD
END:VTIMEZONE
END:VCALENDAR