BEGIN:VCALENDAR
VERSION:2.0
PRODID:-//wp-events-plugin.com//7.2.3.1//EN
TZID:America/Chicago
X-WR-TIMEZONE:America/Chicago
BEGIN:VEVENT
UID:344@zah.org
DTSTART;TZID=America/Chicago:20260321T183000
DTEND;TZID=America/Chicago:20260321T231500
DTSTAMP:20260220T222143Z
URL:https://zah.org/events/navroze-humbandagi-and-function/
SUMMARY:Navroze Humbandagi and Function
DESCRIPTION:\n&nbsp\;\n\n&nbsp\;\n\n&nbsp\;\n\n&nbsp\;\n\n&nbsp\;\n\n&nbsp\
 ;\n\n&nbsp\;\n\n&nbsp\;\n\n&nbsp\;\n\n&nbsp\;\n\n&nbsp\;\n\n&nbsp\;\n\n&nb
 sp\;\n\n&nbsp\;\n\n&nbsp\;\n\n&nbsp\;\n[gravityform id="56" title="true"]
CATEGORIES:DisplayEvent,Entertainment
LOCATION:ZAH\, 8787 W. Airport\, Houston\, Tx\, 77071\, United States
GEO:29.643491;-95.531177
X-APPLE-STRUCTURED-LOCATION;VALUE=URI;X-ADDRESS=8787 W. Airport\, Houston\,
  Tx\, 77071\, United States;X-APPLE-RADIUS=100;X-TITLE=ZAH:geo:29.643491,-
 95.531177
END:VEVENT
BEGIN:VTIMEZONE
TZID:America/Chicago
X-LIC-LOCATION:America/Chicago
BEGIN:DAYLIGHT
DTSTART:20260308T030000
TZOFFSETFROM:-0600
TZOFFSETTO:-0500
TZNAME:CDT
END:DAYLIGHT
END:VTIMEZONE
END:VCALENDAR