BEGIN:VCALENDAR
VERSION:2.0
PRODID:-//wp-events-plugin.com//7.2.3.1//EN
TZID:America/Chicago
X-WR-TIMEZONE:America/Chicago
BEGIN:VEVENT
UID:301@zah.org
DTSTART;TZID=America/Chicago:20250816T190000
DTEND;TZID=America/Chicago:20250816T233000
DTSTAMP:20250811T165915Z
URL:https://zah.org/events/navroze-function-5/
SUMMARY:Shahenshahi Navroze 2025
DESCRIPTION:Shahenshahi Navroze 2025\nSaturday August 16\, 2025 at the ZAH 
 Center\n\n 	\n\n 	Door open at 7:00pm\n 	Appetizers and Mixer: 7:30 - 8:00
 pm\n 	Entertainment Starts at 8:00pm\n 	Dinner: 9:00pm\n 	DJ and Dance the
  night away!!\n\n\n\nRates:\n\nRegular Rates deadline 8/10/2025\nZAH Membe
 rs 12 &amp\; Up: $40\, ZAH members 5-11: $25\nNon-members 12 &amp\; Up: $6
 5\, Non-members 5-11: $45\nLate 8/11/25-8/14/25\nZAH Members 12 &amp\; Up:
  $65\, ZAH members 5-11:  $45\nNon-members 12 &amp\; Up: $75\, Non-member
 s 5-11: $50\nAt the door $75 per person No exceptions\n\nClick here for ev
 ent brochure\n\n[gravityform id="49" title="true"]
END:VEVENT
BEGIN:VTIMEZONE
TZID:America/Chicago
X-LIC-LOCATION:America/Chicago
BEGIN:DAYLIGHT
DTSTART:20250309T030000
TZOFFSETFROM:-0600
TZOFFSETTO:-0500
TZNAME:CDT
END:DAYLIGHT
END:VTIMEZONE
END:VCALENDAR