BEGIN:VCALENDAR
VERSION:2.0
PRODID:-//wp-events-plugin.com//7.2.3.1//EN
TZID:America/Chicago
X-WR-TIMEZONE:America/Chicago
BEGIN:VEVENT
UID:297@zah.org
DTSTART;TZID=America/Chicago:20250322T193000
DTEND;TZID=America/Chicago:20250322T234500
DTSTAMP:20250211T160506Z
URL:https://zah.org/events/navroze-function-3/
SUMMARY:ZAH NoRouz Celebration
DESCRIPTION:Saturday March 22\, 2025\nDoors open at 7:30PM\n\n\n\n\n\n\n\n\
 n\n\n\n\n\n\n\nRSVP by 16th March for Regular rates. Late Rates apply to a
 ll (members and non-members) after 16th March.\nRegular Rates (RSVP by 16t
 h March):\nMember rate - $40 (12 yrs and up)\; $28 - Child (Age 5 to 11)\n
 Non-Member rate - $65(12 yrs and up)\; $45 -child (age 5 to 11)\n4 years a
 nd under are gratis\n\nLate Rates (from 17th March onwards for members and
  non-members):\n$85 (12 yrs and up)\; $60 (age 5 to 11)\n4 years and under
  are gratis\n\nPlease contact Khursheed Dastur (281) 948-5319 (text prefer
 red) for more information\n\nFor more details click here \n\n[gravityform
  id="42" title="false"]
END:VEVENT
BEGIN:VTIMEZONE
TZID:America/Chicago
X-LIC-LOCATION:America/Chicago
BEGIN:DAYLIGHT
DTSTART:20250309T030000
TZOFFSETFROM:-0600
TZOFFSETTO:-0500
TZNAME:CDT
END:DAYLIGHT
END:VTIMEZONE
END:VCALENDAR