BEGIN:VCALENDAR
VERSION:2.0
PRODID:-//wp-events-plugin.com//7.2.3.1//EN
TZID:America/Chicago
X-WR-TIMEZONE:America/Chicago
BEGIN:VEVENT
UID:337@zah.org
DTSTART;TZID=America/Chicago;VALUE=DATE:20251010
DTEND;TZID=America/Chicago;VALUE=DATE:20251012
DTSTAMP:20250913T192935Z
URL:https://zah.org/events/library-event-25th-anniversary-fires-celebratio
 ns/
SUMMARY:ZAH Library & FIRES CELEBRATES
DESCRIPTION:The SILVER MILESTONE - ZAH LIBRARY \n25th ANNUAL LECTURE SERIES
 \nOCTOBER 10th &amp\; 11th\, 2025\n\nPROGRAM\nFriday\, Oct. 10\, 2025\n6:3
 0 pm - Meet and Greet followed by Entertainment\n8:30 pm - Gala Dinner\n10
 :00 pm - Close\nSaturday\, Oct. 11\, 2025\n10:30 am - Tea and Snacks\n11:0
 0 am - Dr. Daniel Sheffield\n12:00 Noon - Lunch\n1:00 pm - Dr. Afshin Mara
 shi\n&nbsp\;\n\n[gravityform id="51" title="true"]
LOCATION:Zarathusthi Heritage & Cultural Center\, 8787 W. Airport\, Houston
 \, TX\, 77071\, United States
GEO:29.643491;-95.531177
X-APPLE-STRUCTURED-LOCATION;VALUE=URI;X-ADDRESS=8787 W. Airport\, Houston\,
  TX\, 77071\, United States;X-APPLE-RADIUS=100;X-TITLE=Zarathusthi Heritag
 e & Cultural Center:geo:29.643491,-95.531177
END:VEVENT
BEGIN:VTIMEZONE
TZID:America/Chicago
X-LIC-LOCATION:America/Chicago
BEGIN:DAYLIGHT
DTSTART:20250309T030000
TZOFFSETFROM:-0600
TZOFFSETTO:-0500
TZNAME:CDT
END:DAYLIGHT
END:VTIMEZONE
END:VCALENDAR