BEGIN:VCALENDAR
VERSION:2.0
PRODID:-//wp-events-plugin.com//7.2.3.1//EN
TZID:America/Chicago
X-WR-TIMEZONE:America/Chicago
BEGIN:VEVENT
UID:343@zah.org
DTSTART;TZID=America/Chicago:20260207T163000
DTEND;TZID=America/Chicago:20260207T230000
DTSTAMP:20260113T151243Z
URL:https://zah.org/events/jashan-sadeh-4/
SUMMARY:Jashne Sadeh 2026
DESCRIPTION:JASHNE SADEH\nSATURDAY February 7\, 2026\nAt The Zarthushti Her
 itage and Cultural Center\n8787 W. Airport Blvd.\, Houston\, TX 77071\nAll
  prayers at the Atash Kadeh Boye ceremony at 4.30 pm.  Atash Nyaesh Praye
 rs at 5.15 pm\, Sadeh Fire immediately following prayers.\nDue to the curr
 ent political situation in Iran we will cancel the Jashne Sadeh dinner. We
  will continue with the bonfire and Prayers of Peace for the families and 
 friends of our ZAH community. You don't need to register to attend the bon
 fire and prayers. Please do attend the Boye Ceremony at 4.30 pm and Atash 
 Nyaesh Prayers at 5.15 pm on 7th of February to show solidarity and suppor
 t for our Zarathushti families.\nZAH COMMUNITY GRATEFULLY THANKS OUR ERVAD
 S FOR PERFORMING PRAYERS AT THE JASHNE SADEH FUNCTION\n&nbsp\;\n\n&nbsp\;\
 n\n&nbsp\;
LOCATION:ZAH\, 8787 W. Airport\, Houston\, Tx\, 77071\, United States
GEO:29.643491;-95.531177
X-APPLE-STRUCTURED-LOCATION;VALUE=URI;X-ADDRESS=8787 W. Airport\, Houston\,
  Tx\, 77071\, United States;X-APPLE-RADIUS=100;X-TITLE=ZAH:geo:29.643491,-
 95.531177
END:VEVENT
BEGIN:VTIMEZONE
TZID:America/Chicago
X-LIC-LOCATION:America/Chicago
BEGIN:STANDARD
DTSTART:20251102T010000
TZOFFSETFROM:-0500
TZOFFSETTO:-0600
TZNAME:CST
END:STANDARD
END:VTIMEZONE
END:VCALENDAR