BEGIN:VCALENDAR
VERSION:2.0
PRODID:-//wp-events-plugin.com//7.2.3.1//EN
TZID:America/Chicago
X-WR-TIMEZONE:America/Chicago
BEGIN:VEVENT
UID:292@zah.org
DTSTART;TZID=America/Chicago;VALUE=DATE:20250201
DTEND;TZID=America/Chicago;VALUE=DATE:20250202
DTSTAMP:20241217T171721Z
URL:https://zah.org/events/jashan-sadeh-3/
SUMMARY:Jashan Sadeh
DESCRIPTION:JASHNE SADEH\nSATURDAY February 1\, 2025\nAt The Zarthushti Her
 itage and Cultural Center\n8787 W. Airport Blvd.\, Houston\, TX 77071\nAll
  prayers at the Atash Kadeh Boye ceremony at 4.30 pm.  Atash Nyaesh Praye
 rs at 5.15 pm\, Sadeh Fire immediately following prayers.\nRATES: (Under 5
  yrs. Gratis) RSVP Deadline: 1/26/25  After RSVP Deadline: Adults $40 Chi
 ld $20\nLAST MINUTE WALK-IN: $55 (Adult/Child) RSVP Rates before midnight 
 1/26/25 Adult: $29 Child: $15\nZAH COMMUNITY GRATEFULLY THANKS OUR ERVADS 
 FOR PERFORMING PRAYERS AT THE JASHNE SADEH FUNCTION\n———————
 ———————————\nThere will not be any boxed meals to go
 .  People who have RSVPed and are not able to attend\, will not be able t
 o request boxes meals.  Only guests present will have meals. Leftovers wi
 ll be sold\, once all\nguests have eaten.  \n—————————
 —————————\n\n&nbsp\;\n\n[gravityform id="40" title="true
 "]
LOCATION:ZAH\, 8787 W. Airport\, Houston\, Tx\, 77071\, United States
GEO:29.643491;-95.531177
X-APPLE-STRUCTURED-LOCATION;VALUE=URI;X-ADDRESS=8787 W. Airport\, Houston\,
  Tx\, 77071\, United States;X-APPLE-RADIUS=100;X-TITLE=ZAH:geo:29.643491,-
 95.531177
END:VEVENT
BEGIN:VTIMEZONE
TZID:America/Chicago
X-LIC-LOCATION:America/Chicago
BEGIN:STANDARD
DTSTART:20241103T010000
TZOFFSETFROM:-0500
TZOFFSETTO:-0600
TZNAME:CST
END:STANDARD
END:VTIMEZONE
END:VCALENDAR