BEGIN:VCALENDAR
VERSION:2.0
PRODID:-//wp-events-plugin.com//7.2.3.1//EN
TZID:America/Chicago
X-WR-TIMEZONE:America/Chicago
BEGIN:VEVENT
UID:306@zah.org
DTSTART;TZID=America/Chicago;VALUE=DATE:20250215
DTEND;TZID=America/Chicago;VALUE=DATE:20250216
DTSTAMP:20250112T231837Z
URL:https://zah.org/events/golden-group-event-6/
SUMMARY:Golden Group Event.
DESCRIPTION:
LOCATION:ZAH\, 8787 W. Airport\, Houston\, Tx\, 77071\, United States
GEO:29.643491;-95.531177
X-APPLE-STRUCTURED-LOCATION;VALUE=URI;X-ADDRESS=8787 W. Airport\, Houston\,
  Tx\, 77071\, United States;X-APPLE-RADIUS=100;X-TITLE=ZAH:geo:29.643491,-
 95.531177
END:VEVENT
BEGIN:VTIMEZONE
TZID:America/Chicago
X-LIC-LOCATION:America/Chicago
BEGIN:STANDARD
DTSTART:20241103T010000
TZOFFSETFROM:-0500
TZOFFSETTO:-0600
TZNAME:CST
END:STANDARD
END:VTIMEZONE
END:VCALENDAR