BEGIN:VCALENDAR
VERSION:2.0
PRODID:-//wp-events-plugin.com//7.2.3.1//EN
TZID:America/Chicago
X-WR-TIMEZONE:America/Chicago
BEGIN:VEVENT
UID:299@zah.org
DTSTART;TZID=America/Chicago:20250601T110000
DTEND;TZID=America/Chicago:20250601T150000
DTSTAMP:20250526T153513Z
URL:https://zah.org/events/gahambar/
SUMMARY:Maidhiayarem Gahambar '25
DESCRIPTION:Maidhiayarem Gahambar '25\nSunday June 1\, 2025\nJASHAN 11:00AM
  at the Atash Kadeh\nLUNCH 1:00PM @ ZHCC\nRates\nMember Adult Sales $15 (1
 2 years and above)\nMember Child Sales $12 (5 to 11 years)\n\nNon Member A
 dult Rate -$20\n(12 years and above)\nNon Member Child Rate - $15\n(5 to 1
 1 years)\n\nUnder 5 years - Free\n\nLate (after 5/26) and Last Minute Walk
  in Rate - $30\n\nRegistration Cut off date to sign up at member rate is M
 idnight Sunday May 25\n\nPlease contact Zia Anklesaria for more informatio
 n at ‭(832) 646-0510‬ or zsankles@gmail.com\n\nClick to see Ghambar Fl
 yer\n\n&nbsp\;\n\n[gravityform id="43" title="false"]
END:VEVENT
BEGIN:VTIMEZONE
TZID:America/Chicago
X-LIC-LOCATION:America/Chicago
BEGIN:DAYLIGHT
DTSTART:20250309T030000
TZOFFSETFROM:-0600
TZOFFSETTO:-0500
TZNAME:CDT
END:DAYLIGHT
END:VTIMEZONE
END:VCALENDAR