BEGIN:VCALENDAR
VERSION:2.0
PRODID:-//wp-events-plugin.com//7.2.3.1//EN
TZID:America/Chicago
X-WR-TIMEZONE:America/Chicago
BEGIN:VEVENT
UID:302@zah.org
DTSTART;TZID=America/Chicago:20250928T110000
DTEND;TZID=America/Chicago:20250928T143000
DTSTAMP:20250818T143347Z
URL:https://zah.org/events/gahambar-2/
SUMMARY:Fasli Mehrgan & Maediozarem Gahambar
DESCRIPTION:Sunday September 28\, 2025\nJashan at Atash Kadeh - 11:00 AM\nG
 ahambar Lunch at ZHCC - 1:00 PM\nMember rate Adult (12 years &amp\; above)
  - $15\nMember rate Child (5 to 11 years) - $12\nNon-member rate Adult (12
  years &amp\; above) - $20\nNon-member rate Child (5 to 11 years) - $15\nU
 nder 5 years are free\n\nPast cut off date - Non-member rates apply ($20 &
 amp\; $15)\nWalkins - $30\n\n\nRSVP due date (Friday\, September 19th midn
 ight). \nAfter the due date\, Non-member rates will apply ($20 &amp\; $15 
 for adult &amp\; child respectively).\n&nbsp\;\nFor more details contact J
 asmin Katrak (713) 320 - 5075 or jasminkatrak@gmail.com\n&nbsp\;\nPlease r
 egister below\n&nbsp\;\nFor more details click here to see flyer \n\n\n\n
 \n\n[gravityform id="50" title="False"]
END:VEVENT
BEGIN:VTIMEZONE
TZID:America/Chicago
X-LIC-LOCATION:America/Chicago
BEGIN:DAYLIGHT
DTSTART:20250309T030000
TZOFFSETFROM:-0600
TZOFFSETTO:-0500
TZNAME:CDT
END:DAYLIGHT
END:VTIMEZONE
END:VCALENDAR