BEGIN:VCALENDAR
VERSION:2.0
PRODID:-//wp-events-plugin.com//7.2.3.1//EN
TZID:America/Chicago
X-WR-TIMEZONE:America/Chicago
BEGIN:VEVENT
UID:323@zah.org
DTSTART;TZID=America/Chicago:20250805T180000
DTEND;TZID=America/Chicago:20250814T180000
DTSTAMP:20250703T220534Z
URL:https://zah.org/events/atash-kadeh-muktad-2025/
SUMMARY:Atash Kadeh Muktad 2025
DESCRIPTION:2025 Muktad Prayers\nat ZAH Atash Kadeh\nTuesday\, August 5 - T
 hursday\, August 14 2025\nSpecial early Morning Prayers at 4:30 a.m. on\nF
 riday August 15\, 2025\nTIMINGS:\n\n6:00 p.m. on Weekdays after the Ujiren
  Geh Boye at 5:15 p.m.\n11:00 a.m. on Weekends after the Havan Geh Boye at
  10:15 a.m.\nZOOM LINK:\nhttps://us02web.zoom.us/j/4192191997?pwd=prayer\n
 Zoom meeting ID: 4192191997   Password: prayer\nRATE: $325 -  Includes S
 ukhar\, Loban\, Fruits\, Nuts\, Flowers\, Mobed charges and up to 4 names 
 of dearly departed.  Additional names are $50 per name for the 10 days.\n
 MACHIS:  To request a Machi on any of the 10 Muktad days\, please first c
 heck availability with Persis Behramsha at 713-294-7747 or email AtashKade
 h.ZAH@gmail.com.\nVASES: Please have your Muktad Vases in the Atash Kadeh 
 before the prayers start preferably by August 4 . Muktad Vases are availab
 le for sale at the Atash Kadeh.  3 sizes - $50\, $60\, $75.\nMODIFIED BOY
 E SCHEDULE – During Muktad:\nHavan Geh                 
                          9:00 a.m. (10:15 a.m. on we
 ekends)\n\nBiji (second) Havan Geh                    1
 :30 p.m.\n\nUziren Geh                          
                5:15 p.m.\n\nFor more information contact Per
 sis Behramsha at 713-294-7747 or email AtashKadeh.ZAH@gmail.com.\n\nRegis
 ter your name for the Muktad Prayers below\n\n[gravityform id="48" title="
 False"]
END:VEVENT
BEGIN:VTIMEZONE
TZID:America/Chicago
X-LIC-LOCATION:America/Chicago
BEGIN:DAYLIGHT
DTSTART:20250309T030000
TZOFFSETFROM:-0600
TZOFFSETTO:-0500
TZNAME:CDT
END:DAYLIGHT
END:VTIMEZONE
END:VCALENDAR