BEGIN:VCALENDAR
VERSION:2.0
PRODID:-//wp-events-plugin.com//7.2.3.1//EN
TZID:America/Chicago
X-WR-TIMEZONE:America/Chicago
BEGIN:VEVENT
UID:70@zah.org
DTSTART;TZID=America/Chicago:20190320T110000
DTEND;TZID=America/Chicago:20190324T130000
DTSTAMP:20190320T042242Z
URL:https://zah.org/events/atash-kadeh-inauguration-and-navroze-funtion/
SUMMARY:Atash Kadeh Inauguration & Navroze Celebration
DESCRIPTION:March 20th&nbsp\;– 24th\, 2019\nThe Zoroastrian Association o
 f Houston proudly announces the grand opening of its new Atash Kadeh. &nbs
 p\;The establishment of a new Atash Kadeh in North America\, a dream for m
 any years\, has been brought to fruition by the generous donation of Feroz
 e and Shernaz Bhandara of Houston.\n\nThis Atash Kadeh\, the first of its 
 kind\, is a standalone structure costing over one and a half million dolla
 rs\, that will be inclusive and open to all Zoroastrians\, their family me
 mbers\, and friends. &nbsp\;It will meet the needs of a dedicated place of
  worship\, and also provide a place to train Mobeds in the future.\n\n&nbs
 p\;\nPlease click here to view Inauguration Schedule\n&nbsp\;\nDue to your
  overwhelming interest and support we have a SOLD OUT event. We will not b
 e accepting any further registrations for the Dinner events. No Walk ins w
 ill be allowed.&nbsp\;Thank You \n&nbsp\;\nIf you have any questions pleas
 e contact Arzin Italia at 713-679-4998 or by email - sorabitalia@yahoo.com
 \n&nbsp\;\nAtash Kadeh Inauguration Hotel / Lodging Details\n\n&nbsp\;
CATEGORIES:DisplayEvent
LOCATION:Zarathusthi Heritage & Cultural Center\, 8787 W. Airport\, Houston
 \, TX\, 77071\, United States
GEO:29.643491;-95.531177
X-APPLE-STRUCTURED-LOCATION;VALUE=URI;X-ADDRESS=8787 W. Airport\, Houston\,
  TX\, 77071\, United States;X-APPLE-RADIUS=100;X-TITLE=Zarathusthi Heritag
 e & Cultural Center:geo:29.643491,-95.531177
END:VEVENT
BEGIN:VTIMEZONE
TZID:America/Chicago
X-LIC-LOCATION:America/Chicago
BEGIN:DAYLIGHT
DTSTART:20190310T030000
TZOFFSETFROM:-0600
TZOFFSETTO:-0500
TZNAME:CDT
END:DAYLIGHT
END:VTIMEZONE
END:VCALENDAR